BEGIN:VCALENDAR
VERSION:2.0
PRODID:-//Eventin//Event Calendar//EN
CALSCALE:GREGORIAN
METHOD:PUBLISH
BEGIN:VEVENT
UID:d4168b8274d4a561a129903aa8ec0985@playkingscreek.com
SUMMARY:2ND ANNUAL ROADRUNNER CLASSIC
DESCRIPTION:
LOCATION:KINGS CREEK COUNTRY CLUB
DTSTAMP:20260423T114248Z
DTSTART:20261002T120000Z
DTEND:20261003T210000Z
END:VEVENT
END:VCALENDAR
